BEGIN:VCALENDAR
VERSION:2.0
CALSCALE:GREGORIAN
PRODID:adamgibbons/ics
METHOD:PUBLISH
X-PUBLISHED-TTL:PT1H
BEGIN:VEVENT
UID:19198@offbeat.amsterdam
SUMMARY:Lagos in NL
DTSTAMP:20260421T115219Z
DTSTART:20260509T213000Z
URL:https://offbeat.amsterdam/event/lagos-in-nl-1
GEO:52.3647777;4.881073026725959
LOCATION:Melkweg - Lijnbaansgracht 234A\, 1017 PH Amsterdam
STATUS:CONFIRMED
CATEGORIES:afrobeats,afro pop,amsterdam-centrum,club,leidseplein
END:VEVENT
BEGIN:VEVENT
UID:20075@offbeat.amsterdam
SUMMARY:Fave
DTSTAMP:20260421T115219Z
DTSTART:20260528T173000Z
URL:https://offbeat.amsterdam/event/fave
GEO:52.3647777;4.881073026725959
LOCATION:Melkweg - Lijnbaansgracht 234A\, 1017 PH Amsterdam
STATUS:CONFIRMED
CATEGORIES:afrobeats,afro pop,amsterdam-centrum,concert,leidseplein,r&b
END:VEVENT
END:VCALENDAR
